BEGIN:VCALENDAR
VERSION:2.0
PRODID:-//https://www.urretxu.eus///NONSGML kigkonsult.se iCalcreator 2.10.15//
METHOD:PUBLISH
BEGIN:VEVENT
UID:20260419T181315UTC-7521lrA1HV@https://www.urretxu.eus/
DTSTAMP:20260419T181315Z
DESCRIPTION:Urretxun elkarrekin bizi diren kultura edo edonolako aniztasun 
 ezberdinen erakusgarria\, postu gastronomikoekin\, tailerrekin eta askotar
 iko ikuskizunekin.\nAntolatzailea: Urretxuko Udala https://www.urretxu.eus
 /eu/component/rseventspro/ekitaldia/17648-aniztasun-jaia/?Itemid=775
DTSTART:20230520T080000Z
DTEND:20230520T140000Z
LOCATION:Gernikako Arbola plaza (Urretxu) (Gernikako Arbola Plaza\, 20700 U
 rretxu\, Gipuzkoa\, Spain)
SUMMARY:ANIZTASUN JAIA
URL:https://www.urretxu.eus/eu/component/rseventspro/ekitaldia/17648-anizta
 sun-jaia/?Itemid=775
END:VEVENT
END:VCALENDAR
