BEGIN:VCALENDAR
VERSION:2.0
PRODID:-//https://www.urretxu.eus///NONSGML kigkonsult.se iCalcreator 2.10.15//
METHOD:PUBLISH
BEGIN:VEVENT
UID:20260422T055025UTC-25767DBvR9@https://www.urretxu.eus/
DTSTAMP:20260422T055025Z
DESCRIPTION:Kuota: 10€\nPrograma honetako 3 saio edo gehiagotan apuntatuz g
 ero\, %25eko deskontua\nInformazioa eta Izen-ematea kultur etxean 94303808
 8\nAntolatzailea: Urretxuko Udala https://www.urretxu.eus/eu/component/rse
 ventspro/ekitaldia/17640-akuarela-ikastaroa-master-class-mendorekin/?Itemi
 d=775
DTSTART:20240524T163000Z
DTEND:20240524T190000Z
LOCATION:Aizpurunea Kultur Etxea (Urretxu) (Jauregi Kalea\, 19\, 20700 Urre
 txu\, Gipuzkoa\, Spain)
SUMMARY:AKUARELA IKASTAROA MASTER CLASS Mendorekin
URL:https://www.urretxu.eus/eu/component/rseventspro/ekitaldia/17640-akuare
 la-ikastaroa-master-class-mendorekin/?Itemid=775
END:VEVENT
END:VCALENDAR
