BEGIN:VCALENDAR
VERSION:2.0
PRODID:-//https://www.urretxu.eus///NONSGML kigkonsult.se iCalcreator 2.10.15//
METHOD:PUBLISH
BEGIN:VEVENT
UID:20260419T183250UTC-6218BDkuJP@https://www.urretxu.eus/
DTSTAMP:20260419T183250Z
DESCRIPTION:10:00-13:00 Casa de Cultura Zelai Arizti (Zumarraga) y 17:00-20
 :00 Casa de Cultura Aizpurunea (Urretxu) Organizador: Urretxu eta Zumarrag
 ako udalak https://www.urretxu.eus/eu/component/rseventspro/ekitaldia/1763
 9-inscripcion-en-las-colonias-infantiles-de-verano/?Itemid=1213
DTSTART:20220516T080000Z
DTEND:20220527T180000Z
LOCATION:Aizpurunea Kultur Etxea (Urretxu) (Jauregi Kalea\, 19\, 20700 Urre
 txu\, Gipuzkoa\, Spain)
SUMMARY:INSCRIPCIÓN EN LAS COLONIAS INFANTILES DE VERANO
URL:https://www.urretxu.eus/eu/component/rseventspro/ekitaldia/17639-inscri
 pcion-en-las-colonias-infantiles-de-verano/?Itemid=1213
END:VEVENT
END:VCALENDAR
