BEGIN:VCALENDAR
VERSION:2.0
PRODID:-//https://www.urretxu.eus///NONSGML kigkonsult.se iCalcreator 2.10.15//
METHOD:PUBLISH
BEGIN:VEVENT
UID:20260419T163339UTC-3710PWkfxt@https://www.urretxu.eus/
DTSTAMP:20260419T163339Z
DESCRIPTION:Hora: 18:00-21:00\nLugar: Trintxerako karpa (Zumarraga)\n  http
 s://www.urretxu.eus/eu/component/rseventspro/ekitaldia/17543-carnavales-20
 24---fiesta-dj/?Itemid=775
DTSTART:20240209T153000Z
DTEND:20240209T183000Z
LOCATION:Renfeko trintxera (Zumarraga) (Elizkale Kalea\, 20700 Zumarraga\, 
 Gipuzkoa\, Spain)
SUMMARY:CARNAVALES 2024 – FIESTA DJ
URL:https://www.urretxu.eus/eu/component/rseventspro/ekitaldia/17543-carnav
 ales-2024---fiesta-dj/?Itemid=775
END:VEVENT
END:VCALENDAR
