BEGIN:VCALENDAR
VERSION:2.0
PRODID:-//https://www.urretxu.eus///NONSGML kigkonsult.se iCalcreator 2.10.15//
METHOD:PUBLISH
BEGIN:VEVENT
UID:20260419T163458UTC-0719WmkJiA@https://www.urretxu.eus/
DTSTAMP:20260419T163458Z
DESCRIPTION:Organizan: Urretxu eta Zumarragako udalak\nLugar: Gernikako Arb
 ola plaza (Urretxu)\n  https://www.urretxu.eus/eu/component/rseventspro/ek
 italdia/17541-carnavales-2024---fiesta-dj/?Itemid=775
DTSTART:20240210T170000Z
DTEND:20240210T190000Z
LOCATION:Gernikako Arbola plaza (Urretxu) (Gernikako Arbola Plaza\, 20700 U
 rretxu\, Gipuzkoa\, Spain)
SUMMARY:CARNAVALES 2024 –  FIESTA DJ
URL:https://www.urretxu.eus/eu/component/rseventspro/ekitaldia/17541-carnav
 ales-2024---fiesta-dj/?Itemid=775
END:VEVENT
END:VCALENDAR
