BEGIN:VCALENDAR
VERSION:2.0
PRODID:-//https://www.urretxu.eus///NONSGML kigkonsult.se iCalcreator 2.10.15//
METHOD:PUBLISH
BEGIN:VEVENT
UID:20260421T104351UTC-4784oSD2Tc@https://www.urretxu.eus/
DTSTAMP:20260421T104351Z
DESCRIPTION:ORDUA: 16:30 – 19:30\nANTOLATZAILEA: Urretxu eta Zumarragako ud
 alak\nTOKIA: Trintxerako karpa (Zumarraga) https://www.urretxu.eus/eu/comp
 onent/rseventspro/ekitaldia/17540-inauteriak-2024---dj-festa/?Itemid=1213
DTSTART:20240209T153000Z
DTEND:20240209T183000Z
LOCATION:Renfeko trintxera (Zumarraga) (Elizkale Kalea\, 20700 Zumarraga\, 
 Gipuzkoa\, Spain)
SUMMARY:INAUTERIAK 2024 –  DJ FESTA
URL:https://www.urretxu.eus/eu/component/rseventspro/ekitaldia/17540-inaute
 riak-2024---dj-festa/?Itemid=1213
END:VEVENT
END:VCALENDAR
