BEGIN:VCALENDAR
VERSION:2.0
PRODID:-//https://www.urretxu.eus///NONSGML kigkonsult.se iCalcreator 2.10.15//
METHOD:PUBLISH
BEGIN:VEVENT
UID:20260419T163633UTC-8483gh0IDb@https://www.urretxu.eus/
DTSTAMP:20260419T163633Z
DESCRIPTION:Organiza: Gainzuri\, Ikastola eta La Salle ikastetxeak\nHora: 1
 4:30 – 16:00\nLugar: calles del pueblo\n  https://www.urretxu.eus/eu/compo
 nent/rseventspro/ekitaldia/17539-carnavales-2023---desfile-escolar/?Itemid
 =775
DTSTART:20240209T133000Z
DTEND:20240209T153000Z
LOCATION:Urretxu (Kalea Iparragirre\, 20W\, 20700 Urretxu\, Gipuzkoa\, Spai
 n)
SUMMARY:CARNAVALES 2023 – DESFILE ESCOLAR
URL:https://www.urretxu.eus/eu/component/rseventspro/ekitaldia/17539-carnav
 ales-2023---desfile-escolar/?Itemid=775
END:VEVENT
END:VCALENDAR
