BEGIN:VCALENDAR
VERSION:2.0
PRODID:-//https://www.urretxu.eus///NONSGML kigkonsult.se iCalcreator 2.10.15//
METHOD:PUBLISH
BEGIN:VEVENT
UID:20260419T145801UTC-1270P63RDn@https://www.urretxu.eus/
DTSTAMP:20260419T145801Z
DESCRIPTION:Ogitarteko eta laranja banaketa\, goizean zehar\, Urretxu Zumar
 ragako ikasleei.\nAntolatzaileak:  Zumarraga eta Urretxuko udalak\nTokia: 
 herriko ikastetxeetan https://www.urretxu.eus/eu/component/rseventspro/eki
 taldia/17537-inauteriak-2024-ostegun-gizena/?Itemid=775
DTSTART;VALUE=DATE:20240208
LOCATION:Urretxu eta Zumarraga (Casa de Ipeñarreta\, Iparragirre Kalea\, 20
 \, 20700 Urretxu\, Guipúzcoa\, Spain)
SUMMARY:INAUTERIAK 2024: OSTEGUN GIZENA
URL:https://www.urretxu.eus/eu/component/rseventspro/ekitaldia/17537-inaute
 riak-2024-ostegun-gizena/?Itemid=775
END:VEVENT
END:VCALENDAR
