BEGIN:VCALENDAR
VERSION:2.0
PRODID:-//https://www.urretxu.eus///NONSGML kigkonsult.se iCalcreator 2.10.15//
METHOD:PUBLISH
BEGIN:VEVENT
UID:20260419T150336UTC-4244CV6JfD@https://www.urretxu.eus/
DTSTAMP:20260419T150336Z
DESCRIPTION:ORDUA: 11:30ean hasi eta egun guztian zehar\nTOKIA: Urretxuko k
 aleak eta Gernikako Arbola plaza\nANTOLATZAILEA: Iparragirre Balerdi Musik
 a Tailerra https://www.urretxu.eus/eu/component/rseventspro/ekitaldia/1753
 4-inauteriak-2024-iparragirre-balerdi-musika-bandaren-kalejira/?Itemid=775
DTSTART:20240210T103000Z
DTEND:20240210T190000Z
LOCATION:Urretxu (Kalea Iparragirre\, 20W\, 20700 Urretxu\, Gipuzkoa\, Spai
 n)
SUMMARY:INAUTERIAK 2024: IPARRAGIRRE BALERDI MUSIKA BANDAREN KALEJIRA
URL:https://www.urretxu.eus/eu/component/rseventspro/ekitaldia/17534-inaute
 riak-2024-iparragirre-balerdi-musika-bandaren-kalejira/?Itemid=775
END:VEVENT
END:VCALENDAR
