BEGIN:VCALENDAR
VERSION:2.0
PRODID:-//https://www.urretxu.eus///NONSGML kigkonsult.se iCalcreator 2.10.15//
METHOD:PUBLISH
BEGIN:VEVENT
UID:20260419T150327UTC-8971ecVUiF@https://www.urretxu.eus/
DTSTAMP:20260419T150327Z
DESCRIPTION:EGUNA: 18\, larunbata\nORDUA: 09:00\nXXXII. HERRI INAUTERIA “UR
 RETXUKO SORGIN DANTZA”\nTOKIA: Iparragirre plaza eta ondoren Urretxuko bas
 erriak.\nANTOLATZAILEA: Lurra dantza taldea https://www.urretxu.eus/eu/com
 ponent/rseventspro/ekitaldia/17532-inauteriak-2023-xxxiii-herri-inauteria-
 urretxuko-sorgin-dantza/?Itemid=775
DTSTART:20230218T080000Z
DTEND:20230218T100000Z
LOCATION:Iparragirre plaza (Urretxu) (Iparragirre Kalea\, 22\, 20700 Urretx
 u\, Gipuzkoa\, Spain)
SUMMARY:INAUTERIAK 2023: XXXIII. HERRI INAUTERIA ”URRETXUKO SORGIN DANTZA'
URL:https://www.urretxu.eus/eu/component/rseventspro/ekitaldia/17532-inaute
 riak-2023-xxxiii-herri-inauteria-urretxuko-sorgin-dantza/?Itemid=775
END:VEVENT
END:VCALENDAR
