BEGIN:VCALENDAR
VERSION:2.0
PRODID:-//https://www.urretxu.eus///NONSGML kigkonsult.se iCalcreator 2.10.15//
METHOD:PUBLISH
BEGIN:VEVENT
UID:20260419T194647UTC-3701mI23n0@https://www.urretxu.eus/
DTSTAMP:20260419T194647Z
DESCRIPTION:BENEDICTION\, Terence Davis\, 137´\, Erresuma Batua Antolatzail
 ea: Butak 21 Zine Kluba Sarrera: 4€ Bonoa: 40 € https://www.urretxu.eus/eu
 /component/rseventspro/ekitaldia/17481-zine-klub-saioa-benediction/?Itemid
 =775
DTSTART:20221111T210000Z
DTEND:20221111T223000Z
LOCATION:Zelai Arizti aretoa (Zumarraga) (Legazpi Kalea\, 7\, 20700 Zumarra
 ga\, Gipuzkoa\, Spain)
SUMMARY:ZINE KLUB SAIOA 'BENEDICTION'
URL:https://www.urretxu.eus/eu/component/rseventspro/ekitaldia/17481-zine-k
 lub-saioa-benediction/?Itemid=775
END:VEVENT
END:VCALENDAR
