BEGIN:VCALENDAR
VERSION:2.0
PRODID:-//https://www.urretxu.eus///NONSGML kigkonsult.se iCalcreator 2.10.15//
METHOD:PUBLISH
BEGIN:VEVENT
UID:20260419T181824UTC-87945B9u8J@https://www.urretxu.eus/
DTSTAMP:20260419T181824Z
DESCRIPTION:TOKIA: Urretxuko udaletxeko portaloia ANTOLATZAILEA: Urretxuko 
 Udala https://www.urretxu.eus/eu/component/rseventspro/ekitaldia/17267-urr
 elur-argazki-lehiaketako-sari-banaketa/?Itemid=775
DTSTART:20221125T180000Z
DTEND:20221125T190000Z
LOCATION:Urretxuko Udala (Iparragirre Kalea\, 20\, 20700 Urretxu\, Gipuzkoa
 \, Spain)
SUMMARY:URRELUR ARGAZKI LEHIAKETAKO SARI BANAKETA
URL:https://www.urretxu.eus/eu/component/rseventspro/ekitaldia/17267-urrelu
 r-argazki-lehiaketako-sari-banaketa/?Itemid=775
END:VEVENT
END:VCALENDAR
