BEGIN:VCALENDAR
VERSION:2.0
PRODID:-//https://www.urretxu.eus///NONSGML kigkonsult.se iCalcreator 2.10.15//
METHOD:PUBLISH
BEGIN:VEVENT
UID:20260419T181823UTC-5462cWiul7@https://www.urretxu.eus/
DTSTAMP:20260419T181823Z
DESCRIPTION:Liburua: SAPPHIRA Y LA JOVEN ESCLAVA\, Willa Cather https://www
 .urretxu.eus/eu/component/rseventspro/ekitaldia/17262-munduko-emakumeen-li
 teraturaren-kluba/?Itemid=775
DTSTART:20220127T173000Z
DTEND:20220127T183000Z
LOCATION:Aizpurunea Kultur Etxea (Urretxu) (Jauregi Kalea\, 19\, 20700 Urre
 txu\, Gipuzkoa\, Spain)
SUMMARY:MUNDUKO EMAKUMEEN LITERATURAREN KLUBA 
URL:https://www.urretxu.eus/eu/component/rseventspro/ekitaldia/17262-munduk
 o-emakumeen-literaturaren-kluba/?Itemid=775
END:VEVENT
END:VCALENDAR
