BEGIN:VCALENDAR
VERSION:2.0
PRODID:-//https://www.urretxu.eus///NONSGML kigkonsult.se iCalcreator 2.10.15//
METHOD:PUBLISH
BEGIN:VEVENT
UID:20260419T132555UTC-5597bO6vho@https://www.urretxu.eus/
DTSTAMP:20260419T132555Z
DESCRIPTION:Urretxu eta Zumarragako Musika Elkarteak 19\, 20\, 21\, 22 eta 
 27 ostirala\, larunbata Egunean zehar https://www.urretxu.eus/eu/component
 /rseventspro/ekitaldia/17255-santa-zezilia-kalejirak/?Itemid=775
DTSTART;VALUE=DATE:20221119
LOCATION:Urretxu eta Zumarragako kaleak (Labeaga Kalea\, 18\, 20700 Urretxu
 \, Gipuzkoa\, Spain)
SUMMARY:SANTA ZEZILIA KALEJIRAK
URL:https://www.urretxu.eus/eu/component/rseventspro/ekitaldia/17255-santa-
 zezilia-kalejirak/?Itemid=775
END:VEVENT
END:VCALENDAR
