BEGIN:VCALENDAR
VERSION:2.0
PRODID:-//https://www.urretxu.eus///NONSGML kigkonsult.se iCalcreator 2.10.15//
METHOD:PUBLISH
BEGIN:VEVENT
UID:20260419T145752UTC-7797JSFzuh@https://www.urretxu.eus/
DTSTAMP:20260419T145752Z
DESCRIPTION:Pasacalles con las agrupaciones musicales de Urretxu y Zumarrag
 a\nOrganiza: Urretxu eta Zumarragako musika elkarteak https://www.urretxu.
 eus/eu/component/rseventspro/ekitaldia/17254-pasacalles-de-santa-zezilia/?
 Itemid=775
DTSTART;VALUE=DATE:20221119
LOCATION:Urretxu eta Zumarragako kaleak (Labeaga Kalea\, 18\, 20700 Urretxu
 \, Gipuzkoa\, Spain)
SUMMARY:PASACALLES DE SANTA ZEZILIA
URL:https://www.urretxu.eus/eu/component/rseventspro/ekitaldia/17254-pasaca
 lles-de-santa-zezilia/?Itemid=775
END:VEVENT
END:VCALENDAR
