BEGIN:VCALENDAR
VERSION:2.0
PRODID:-//https://www.urretxu.eus///NONSGML kigkonsult.se iCalcreator 2.10.15//
METHOD:PUBLISH
BEGIN:VEVENT
UID:20260421T103149UTC-6105JMauT0@https://www.urretxu.eus/
DTSTAMP:20260421T103149Z
DESCRIPTION:Museo\, talleres\, feria\, concurso fotográfico…todo gratuíto. 
 \n\nVer programa de mano. https://www.urretxu.eus/eu/component/rseventspro
 /ekitaldia/17249-semana-de-mineralogia-y-paleontologia-urrelur/?Itemid=121
 3
DTSTART:20211105T080000Z
DTEND:20211107T190000Z
LOCATION:Urrelur. Mineral eta fosil museoa (Urretxu) (Jauregi Kalea\, 19\, 
 20700 Urretxu\, Gipuzkoa\, Spain)
SUMMARY:SEMANA DE MINERALOGIA Y PALEONTOLOGIA URRELUR
URL:https://www.urretxu.eus/eu/component/rseventspro/ekitaldia/17249-semana
 -de-mineralogia-y-paleontologia-urrelur/?Itemid=1213
END:VEVENT
END:VCALENDAR
