BEGIN:VCALENDAR
VERSION:2.0
PRODID:-//https://www.urretxu.eus///NONSGML kigkonsult.se iCalcreator 2.10.15//
METHOD:PUBLISH
BEGIN:VEVENT
UID:20260419T181704UTC-6149d5b4cI@https://www.urretxu.eus/
DTSTAMP:20260419T181704Z
DESCRIPTION:Oinarriak Urretxu eta Zumarragako udalen web orrietan\nAntolatz
 ailea: Urretxu eta Zumarragako udalak https://www.urretxu.eus/eu/component
 /rseventspro/ekitaldia/17175-xiii-kale-pintura-lehiaketa/?Itemid=775
DTSTART:20230617T070000Z
DTEND:20230617T113000Z
LOCATION:Zelai Arizti kultur etxea (Zumarraga) (Legazpi Kalea\, 7\, 20700 Z
 umarraga\, Gipuzkoa\, Spain)
SUMMARY:XIII. KALE PINTURA LEHIAKETA
URL:https://www.urretxu.eus/eu/component/rseventspro/ekitaldia/17175-xiii-k
 ale-pintura-lehiaketa/?Itemid=775
END:VEVENT
END:VCALENDAR
