BEGIN:VCALENDAR
VERSION:2.0
PRODID:-//https://www.urretxu.eus///NONSGML kigkonsult.se iCalcreator 2.10.15//
METHOD:PUBLISH
BEGIN:VEVENT
UID:20260419T194758UTC-5474BbkrZU@https://www.urretxu.eus/
DTSTAMP:20260419T194758Z
DESCRIPTION:Urretxu eta Zumarragako leiho\, balkoi eta baserrien sarrerak. 
 Sari banaketa uztailaren 9an izango da. https://www.urretxu.eus/eu/compone
 nt/rseventspro/ekitaldia/17171-lore-sariketaren-sari-banaketa/?Itemid=775
DTSTART:20210709T100000Z
DTEND:20210709T110000Z
LOCATION:Zelai Arizti kultur etxea (Zumarraga) (Legazpi Kalea\, 7\, 20700 Z
 umarraga\, Gipuzkoa\, Spain)
SUMMARY:LORE SARIKETAREN SARI BANAKETA
URL:https://www.urretxu.eus/eu/component/rseventspro/ekitaldia/17171-lore-s
 ariketaren-sari-banaketa/?Itemid=775
END:VEVENT
END:VCALENDAR
