BEGIN:VCALENDAR
VERSION:2.0
PRODID:-//https://www.urretxu.eus///NONSGML kigkonsult.se iCalcreator 2.10.15//
METHOD:PUBLISH
BEGIN:VEVENT
UID:20260419T164442UTC-4788FL3thM@https://www.urretxu.eus/
DTSTAMP:20260419T164442Z
DESCRIPTION:EGUNA: Ostirala\, 28\nORDUA: 19:00\nXABIER ORMAZABAL BEKA ETA P
 ROIEKZIOA\nLabeaga aretoa\n“Mendian hil\, hirian hil' https://www.urretxu.
 eus/eu/component/rseventspro/ekitaldia/17149-xabier-ormazabal-beka-eta-pro
 iekzioa-labeaga-aretoan/?Itemid=775
DTSTART:20210528T170000Z
DTEND:20210528T193000Z
LOCATION:Labeaga Aretoa (Urretxu) (Labeaga Kalea\, 20\, 20700 Urretxu\, Gip
 uzkoa\, Spain)
SUMMARY:XABIER ORMAZABAL BEKA ETA PROIEKZIOA | Labeaga aretoan
URL:https://www.urretxu.eus/eu/component/rseventspro/ekitaldia/17149-xabier
 -ormazabal-beka-eta-proiekzioa-labeaga-aretoan/?Itemid=775
END:VEVENT
END:VCALENDAR
