BEGIN:VCALENDAR
VERSION:2.0
PRODID:-//https://www.urretxu.eus///NONSGML kigkonsult.se iCalcreator 2.10.15//
METHOD:PUBLISH
BEGIN:VEVENT
UID:20260419T213221UTC-34291xvXcC@https://www.urretxu.eus/
DTSTAMP:20260419T213221Z
DESCRIPTION:Libro  'Mendiko gaitza'\, Idoia Garzes\, Agustin Zubikarai gana
 dor de la beca https://www.urretxu.eus/eu/component/rseventspro/ekitaldia/
 17143-club-de-lectura-mendiko-gaitza-idoia-garzes-agustin-zubikarai-ganado
 r-de-la-beca/?Itemid=775
DTSTART:20211019T170000Z
DTEND:20211019T183000Z
LOCATION:Aizpurunea Kultur Etxea (Urretxu) (Jauregi Kalea\, 19\, 20700 Urre
 txu\, Gipuzkoa\, Spain)
SUMMARY:CLUB DE LECTURA  'Mendiko gaitza'\, Idoia Garzes\, Agustin Zubikara
 i ganador de la beca
URL:https://www.urretxu.eus/eu/component/rseventspro/ekitaldia/17143-club-d
 e-lectura-mendiko-gaitza-idoia-garzes-agustin-zubikarai-ganador-de-la-beca
 /?Itemid=775
END:VEVENT
END:VCALENDAR
