BEGIN:VCALENDAR
VERSION:2.0
PRODID:-//https://www.urretxu.eus///NONSGML kigkonsult.se iCalcreator 2.10.15//
METHOD:PUBLISH
BEGIN:VEVENT
UID:20260419T181739UTC-7925OFJ97W@https://www.urretxu.eus/
DTSTAMP:20260419T181739Z
DESCRIPTION:Liburua: : 'Hotz industriala”\, Julen Belamunorena\nAntolatzail
 ea: Urretxu eta Zumarragako udalak eta Udal Euskaltegia https://www.urretx
 u.eus/eu/component/rseventspro/ekitaldia/17142-irakurle-taldea-hotz-indust
 riala-julen-belamunorena/?Itemid=775
DTSTART:20211123T180000Z
DTEND:20211123T193000Z
LOCATION:Zelai Arizti kultur etxea (Zumarraga) (Legazpi Kalea\, 7\, 20700 Z
 umarraga\, Gipuzkoa\, Spain)
SUMMARY:IRAKURLE TALDEA : 'Hotz industriala”\, Julen Belamunorena
URL:https://www.urretxu.eus/eu/component/rseventspro/ekitaldia/17142-irakur
 le-taldea-hotz-industriala-julen-belamunorena/?Itemid=775
END:VEVENT
END:VCALENDAR
