BEGIN:VCALENDAR
VERSION:2.0
PRODID:-//https://www.urretxu.eus///NONSGML kigkonsult.se iCalcreator 2.10.15//
METHOD:PUBLISH
BEGIN:VEVENT
UID:20260419T181740UTC-71204r9utL@https://www.urretxu.eus/
DTSTAMP:20260419T181740Z
DESCRIPTION:Ticket para el sorteo: 1€ https://www.urretxu.eus/eu/component/
 rseventspro/ekitaldia/16993-zine-txiki-cortometrajes-infantiles-5-anos/?It
 emid=775
DTSTART:20210214T160000Z
DTEND:20210214T180000Z
LOCATION:Labeaga Aretoa (Urretxu) (Labeaga Kalea\, 20\, 20700 Urretxu\, Gip
 uzkoa\, Spain)
SUMMARY:Zine txiki cortometrajes infantiles (+ 5 años)
URL:https://www.urretxu.eus/eu/component/rseventspro/ekitaldia/16993-zine-t
 xiki-cortometrajes-infantiles-5-anos/?Itemid=775
END:VEVENT
END:VCALENDAR
