BEGIN:VCALENDAR
VERSION:2.0
PRODID:-//https://www.urretxu.eus///NONSGML kigkonsult.se iCalcreator 2.10.15//
METHOD:PUBLISH
BEGIN:VEVENT
UID:20260419T182149UTC-43588iDvAM@https://www.urretxu.eus/
DTSTAMP:20260419T182149Z
DESCRIPTION:Zozketa txartela: €1 https://www.urretxu.eus/eu/component/rseve
 ntspro/ekitaldia/16991-zine-txiki-haurrentzako-film-laburrak-5-urte-gehiag
 o/?Itemid=775
DTSTART:20210214T160000Z
DTEND:20210214T180000Z
LOCATION:Labeaga Aretoa (Urretxu) (Labeaga Kalea\, 20\, 20700 Urretxu\, Gip
 uzkoa\, Spain)
SUMMARY:Zine txiki haurrentzako film laburrak (5 urte gehiago)
URL:https://www.urretxu.eus/eu/component/rseventspro/ekitaldia/16991-zine-t
 xiki-haurrentzako-film-laburrak-5-urte-gehiago/?Itemid=775
END:VEVENT
END:VCALENDAR
