BEGIN:VCALENDAR
VERSION:2.0
PRODID:-//https://www.urretxu.eus///NONSGML kigkonsult.se iCalcreator 2.10.15//
METHOD:PUBLISH
BEGIN:VEVENT
UID:20260419T195527UTC-668809vgsj@https://www.urretxu.eus/
DTSTAMP:20260419T195527Z
DESCRIPTION:943038827Antolatzailea: Urretxuko eta Zumarragako Udala\nUrtarr
 ilaren 1 eta 6an itxita https://www.urretxu.eus/eu/component/rseventspro/e
 kitaldia/16906-gazte-bidean-nerabeentzako-udal-zerbitzua/?Itemid=775
DTSTART:20201226T153000Z
DTEND:20201226T193000Z
LOCATION:Iparragirre plaza (Urretxu) (Iparragirre Kalea\, 22\, 20700 Urretx
 u\, Gipuzkoa\, Spain)
SUMMARY:Gazte bidean nerabeentzako udal zerbitzua
URL:https://www.urretxu.eus/eu/component/rseventspro/ekitaldia/16906-gazte-
 bidean-nerabeentzako-udal-zerbitzua/?Itemid=775
END:VEVENT
END:VCALENDAR
