BEGIN:VCALENDAR
VERSION:2.0
PRODID:-//https://www.urretxu.eus///NONSGML kigkonsult.se iCalcreator 2.10.15//
METHOD:PUBLISH
BEGIN:VEVENT
UID:20260421T120848UTC-6109f9B8Id@https://www.urretxu.eus/
DTSTAMP:20260421T120848Z
DESCRIPTION:Irakurketa-zailtasun irangankorrak edo iraunkorrak dituzten per
 tsonei zuzendua. (11:00 - 12:00)\nAntolatzailea: Urretxuko udala https://w
 ww.urretxu.eus/eu/component/rseventspro/ekitaldia/16782-urteko-jarduera-ir
 akurketa-erraza-gazteleraz/?Itemid=1213
DTSTART:20210217T100000Z
DTEND:20210217T110000Z
LOCATION:Urretxuko Liburutegia (Jauregi Kalea\, 21\, 20700 Urretxu\, Gipuzk
 oa\, Spain)
SUMMARY:Urteko jarduera: irakurketa erraza gazteleraz
URL:https://www.urretxu.eus/eu/component/rseventspro/ekitaldia/16782-urteko
 -jarduera-irakurketa-erraza-gazteleraz/?Itemid=1213
END:VEVENT
END:VCALENDAR
