BEGIN:VCALENDAR
VERSION:2.0
PRODID:-//https://www.urretxu.eus///NONSGML kigkonsult.se iCalcreator 2.10.15//
METHOD:PUBLISH
BEGIN:VEVENT
UID:20260419T181825UTC-4402JIURGh@https://www.urretxu.eus/
DTSTAMP:20260419T181825Z
DESCRIPTION:Liburua: APEGOS FEROCES\, Vivian Gornick (AEB) https://www.urre
 txu.eus/eu/component/rseventspro/ekitaldia/16538-munduko-emakumeen-literat
 uraren-kluba/?Itemid=775
DTSTART:20210121T173000Z
DTEND:20210121T190000Z
LOCATION:Aizpurunea Kultur Etxea (Urretxu) (Jauregi Kalea\, 19\, 20700 Urre
 txu\, Gipuzkoa\, Spain)
SUMMARY:Munduko emakumeen literaturaren kluba
URL:https://www.urretxu.eus/eu/component/rseventspro/ekitaldia/16538-munduk
 o-emakumeen-literaturaren-kluba/?Itemid=775
END:VEVENT
END:VCALENDAR
