BEGIN:VCALENDAR
VERSION:2.0
PRODID:-//https://www.urretxu.eus///NONSGML kigkonsult.se iCalcreator 2.10.15//
METHOD:PUBLISH
BEGIN:VEVENT
UID:20260420T005226UTC-0277n9FzWr@https://www.urretxu.eus/
DTSTAMP:20260420T005226Z
DESCRIPTION:'ONDINA. UN AMOR PARA SIEMPRE'\, Christian Petzold  (Alemania) 
 Antolatzailea: Butak 21 Zine Kluba https://www.urretxu.eus/eu/component/rs
 eventspro/ekitaldia/16531-zine-klub-saioa/?Itemid=775
DTSTART:20210115T180000Z
DTEND:20210115T200000Z
LOCATION:Zelai Arizti aretoa (Zumarraga) (Legazpi Kalea\, 7\, 20700 Zumarra
 ga\, Gipuzkoa\, Spain)
SUMMARY:Zine klub saioa
URL:https://www.urretxu.eus/eu/component/rseventspro/ekitaldia/16531-zine-k
 lub-saioa/?Itemid=775
END:VEVENT
END:VCALENDAR
