BEGIN:VCALENDAR
VERSION:2.0
PRODID:-//https://www.urretxu.eus///NONSGML kigkonsult.se iCalcreator 2.10.15//
METHOD:PUBLISH
BEGIN:VEVENT
UID:20260419T165054UTC-1520vuapxj@https://www.urretxu.eus/
DTSTAMP:20260419T165054Z
DESCRIPTION: https://www.urretxu.eus/eu/component/rseventspro/ekitaldia/165
 12-lucio-gabiriaren-aldeko-bertso-saioa/?Itemid=775
DTSTART:20201212T183000Z
DTEND:20201212T200000Z
LOCATION:Zelai Arizti aretoa (Zumarraga) (Legazpi Kalea\, 7\, 20700 Zumarra
 ga\, Gipuzkoa\, Spain)
SUMMARY:Lucio Gabiriaren aldeko bertso-saioa
URL:https://www.urretxu.eus/eu/component/rseventspro/ekitaldia/16512-lucio-
 gabiriaren-aldeko-bertso-saioa/?Itemid=775
END:VEVENT
END:VCALENDAR
