BEGIN:VCALENDAR
VERSION:2.0
PRODID:-//https://www.urretxu.eus///NONSGML kigkonsult.se iCalcreator 2.10.15//
METHOD:PUBLISH
BEGIN:VEVENT
UID:20260419T164524UTC-6054LUt7vd@https://www.urretxu.eus/
DTSTAMP:20260419T164524Z
DESCRIPTION: https://www.urretxu.eus/eu/component/rseventspro/ekitaldia/165
 11-euskal-herrian-euskaraz-abestu-eta-amaierako-txalo-jotzea/?Itemid=775
DTSTART:20201204T190000Z
DTEND:20201204T193000Z
LOCATION:Urretxuko Udala (Iparragirre Kalea\, 20\, 20700 Urretxu\, Gipuzkoa
 \, Spain)
SUMMARY:Euskal Herrian Euskaraz abestu\, eta amaierako txalo jotzea
URL:https://www.urretxu.eus/eu/component/rseventspro/ekitaldia/16511-euskal
 -herrian-euskaraz-abestu-eta-amaierako-txalo-jotzea/?Itemid=775
END:VEVENT
END:VCALENDAR
