BEGIN:VCALENDAR
VERSION:2.0
PRODID:-//https://www.urretxu.eus///NONSGML kigkonsult.se iCalcreator 2.10.15//
METHOD:PUBLISH
BEGIN:VEVENT
UID:20260421T091603UTC-6963id5igK@https://www.urretxu.eus/
DTSTAMP:20260421T091603Z
DESCRIPTION: \nLiteratura\, hitza eta sormenaren inguruko ekitaldia\nTOKIA:
  Urretxuko udaletxea\nANTOLATZAILEA: Urretxu eta Zumarragako udalak\n\n  h
 ttps://www.urretxu.eus/eu/component/rseventspro/ekitaldia/16325-iparragirr
 e-sariak-sari-banaketa-ekitaldia/?Itemid=1213
DTSTART:20240301T180000Z
DTEND:20240301T190000Z
LOCATION:Urretxuko Udaletxea  (Iparragirre 20)
SUMMARY:“IPARRAGIRRE SARIAK”: SARI BANAKETA EKITALDIA
URL:https://www.urretxu.eus/eu/component/rseventspro/ekitaldia/16325-iparra
 girre-sariak-sari-banaketa-ekitaldia/?Itemid=1213
END:VEVENT
END:VCALENDAR
