BEGIN:VCALENDAR
VERSION:2.0
PRODID:-//https://www.urretxu.eus///NONSGML kigkonsult.se iCalcreator 2.10.15//
METHOD:PUBLISH
BEGIN:VEVENT
UID:20260421T104540UTC-1107xJ7lxP@https://www.urretxu.eus/
DTSTAMP:20260421T104540Z
DESCRIPTION:Madrilen Iparragirreren omenez ospatuko den aste kulturala\, Re
 al Sociedad Vascongada de Amigos del País elkarteak antolatua.Hitzaldia\, 
 antzerkia eta kontzertua izango dira\, besteak beste. https://www.urretxu.
 eus/eu/component/rseventspro/ekitaldia/16310-semana-cultural-iparragirre-m
 adriden/?Itemid=1213
DTSTART;VALUE=DATE:20200618
LOCATION:Madrid ()
SUMMARY:Semana Cultural iparragirre\, Madriden.
URL:https://www.urretxu.eus/eu/component/rseventspro/ekitaldia/16310-semana
 -cultural-iparragirre-madriden/?Itemid=1213
END:VEVENT
END:VCALENDAR
