BEGIN:VCALENDAR
VERSION:2.0
PRODID:-//https://www.urretxu.eus///NONSGML kigkonsult.se iCalcreator 2.10.15//
METHOD:PUBLISH
BEGIN:VEVENT
UID:20260419T200706UTC-7852E6fonb@https://www.urretxu.eus/
DTSTAMP:20260419T200706Z
DESCRIPTION:Organiza: Ayuntamientos de Urretxu y Zumarraga\nEZETZ LORTU! Co
 nsurso infantil de habilidades humorísticas\nParticipantes: alumnos de los
  cursos 3º y 4º de las escuelas de Urretxu y Zumarraga\nIdioma: euskera\nC
 lasificaciones: 4\, 11\nFinal: 18\nEntrada gratuita https://www.urretxu.eu
 s/eu/component/rseventspro/ekitaldia/1625-ezetz-lortu-haurrentzako-trebezi
 a-lehiaketa-umoretsua-euskera/?Itemid=775
DTSTART:20180304T160000Z
DTEND:20180304T180000Z
LOCATION:Labeaga Aretoa (Urretxu) (Labeaga Kalea\, 20\, 20700 Urretxu\, Gip
 uzkoa\, Spain)
SUMMARY:EZETZ LORTU! HAURRENTZAKO TREBEZIA LEHIAKETA UMORETSUA (euskera)
URL:https://www.urretxu.eus/eu/component/rseventspro/ekitaldia/1625-ezetz-l
 ortu-haurrentzako-trebezia-lehiaketa-umoretsua-euskera/?Itemid=775
END:VEVENT
END:VCALENDAR
