BEGIN:VCALENDAR
VERSION:2.0
PRODID:-//https://www.urretxu.eus///NONSGML kigkonsult.se iCalcreator 2.10.15//
METHOD:PUBLISH
BEGIN:VEVENT
UID:20260419T235737UTC-54200iTcon@https://www.urretxu.eus/
DTSTAMP:20260419T235737Z
DESCRIPTION:EGUNA: 11\, asteartea\nORDUA: 18:30 – 21:00\nGIZA IRUDIA IKASTA
 ROA Josu Marotorekin\n\nModeloa: Zuriñe Ormaetxea\n\nTOKIA: Labeaga aretoa
  (Urretxu)\nANTOLATZAILEA: Urretxuko Udala\n\nKuota: 10€ Programa honetako
  3 saio edo gehiagotan apuntatuz gero\, %25eko deskontua\nIzen ematea: Ots
 ailaren 11a arte kultur etxean\n\n https://www.urretxu.eus/eu/component/rs
 eventspro/ekitaldia/16131-giza-irudia-ikastaroa-josu-marotorekin-izen-amat
 eak/?Itemid=775
DTSTART;VALUE=DATE:20200201
LOCATION:Aizpurunea Kultur Etxea (Urretxu) (Jauregi Kalea\, 19\, 20700 Urre
 txu\, Gipuzkoa\, Spain)
SUMMARY:GIZA IRUDIA IKASTAROA Josu Marotorekin\, Izen-amateak
URL:https://www.urretxu.eus/eu/component/rseventspro/ekitaldia/16131-giza-i
 rudia-ikastaroa-josu-marotorekin-izen-amateak/?Itemid=775
END:VEVENT
END:VCALENDAR
