BEGIN:VCALENDAR
VERSION:2.0
PRODID:-//https://www.urretxu.eus///NONSGML kigkonsult.se iCalcreator 2.10.15//
METHOD:PUBLISH
BEGIN:VEVENT
UID:20260419T182005UTC-9824p92eiU@https://www.urretxu.eus/
DTSTAMP:20260419T182005Z
DESCRIPTION:EGUNA: azaroak 29 arte\nORDUA: 20:00\nTOKIA: Zelai Arizti kultu
 r etxea (Zumarraga). Aizpurunea kultur etxea (Urretxu)\nANTOLATZAILEA: Urr
 etxu eta Zumarragako udalak\n\n  https://www.urretxu.eus/eu/component/rsev
 entspro/ekitaldia/15487-haurrentzako-gabonetako-krisma-eta-ipuin-lehiaketa
 k/?Itemid=775
DTSTART;VALUE=DATE:20221101
LOCATION:Zelai Arizti kultur etxea (Zumarraga) (Legazpi Kalea\, 7\, 20700 Z
 umarraga\, Gipuzkoa\, Spain)
SUMMARY:HAURRENTZAKO GABONETAKO KRISMA ETA IPUIN LEHIAKETAK
URL:https://www.urretxu.eus/eu/component/rseventspro/ekitaldia/15487-haurre
 ntzako-gabonetako-krisma-eta-ipuin-lehiaketak/?Itemid=775
END:VEVENT
END:VCALENDAR
