BEGIN:VCALENDAR
VERSION:2.0
PRODID:-//https://www.urretxu.eus///NONSGML kigkonsult.se iCalcreator 2.10.15//
METHOD:PUBLISH
BEGIN:VEVENT
UID:20260419T195527UTC-66484JVtEg@https://www.urretxu.eus/
DTSTAMP:20260419T195527Z
DESCRIPTION:EGUNA: Hileko asteazken\, ostegun\, ostiral\, larunbat eta igan
 de guztietan\nORDUA:\n\n16:30 - 20:00 asteazkena eta osteguna\n16:30 - 20:
 30 ostirala\, larunbata eta igandea\n\nGAZTE BIDEAN – NERABEENTZAKO UDAL Z
 ERBITZUA\nTOKIA: Gazte Bidean – Iparragirre plaza (Urretxu)\nANTOLATZAILEA
 : Urretxu eta Zumarragako udalak\n\n  https://www.urretxu.eus/eu/component
 /rseventspro/ekitaldia/15411-gazte-bidean---nerabeentzako-udal-zerbitzua/?
 Itemid=775
DTSTART;VALUE=DATE:20191002
LOCATION:Gazte Bidean (Urretxu) (Jauregi Kalea\, 10\, 20700 Urretxu\, Gipuz
 koa\, Spain)
SUMMARY:GAZTE BIDEAN – NERABEENTZAKO UDAL ZERBITZUA
URL:https://www.urretxu.eus/eu/component/rseventspro/ekitaldia/15411-gazte-
 bidean---nerabeentzako-udal-zerbitzua/?Itemid=775
END:VEVENT
END:VCALENDAR
