BEGIN:VCALENDAR
VERSION:2.0
PRODID:-//https://www.urretxu.eus///NONSGML kigkonsult.se iCalcreator 2.10.15//
METHOD:PUBLISH
BEGIN:VEVENT
UID:20260419T182204UTC-0682VxhDaH@https://www.urretxu.eus/
DTSTAMP:20260419T182204Z
DESCRIPTION:EGUNA: urriak 6\, ostirala\nORDUA: 19:00\nSANTA ANASTASIA JAIET
 AKO ARGAZKI LEHIAKETAREN SARI BANAKETA\nTOKIA: Urretxuko udaletxeko portal
 oian\nANTOLATZAILEA: Urretxuko Udala eta Argazkia Elkartea\n\n  https://ww
 w.urretxu.eus/eu/component/rseventspro/ekitaldia/15236-santa-anastasia-jai
 etako-argazki-lehiaketaren-sari-banaketa/?Itemid=775
DTSTART:20231006T170000Z
DTEND:20231006T180000Z
LOCATION:Udaletxeko Portaloia (Urretxu) (Casa de Ipeñarreta\, Iparragirre K
 alea\, 20\, 20700 Urretxu\, Guipúzcoa\, Zumarraga\, Spain)
SUMMARY:SANTA ANASTASIA JAIETAKO ARGAZKI LEHIAKETAREN SARI BANAKETA
URL:https://www.urretxu.eus/eu/component/rseventspro/ekitaldia/15236-santa-
 anastasia-jaietako-argazki-lehiaketaren-sari-banaketa/?Itemid=775
END:VEVENT
END:VCALENDAR
