BEGIN:VCALENDAR
VERSION:2.0
PRODID:-//https://www.urretxu.eus///NONSGML kigkonsult.se iCalcreator 2.10.15//
METHOD:PUBLISH
BEGIN:VEVENT
UID:20260419T181915UTC-3035Om0W1K@https://www.urretxu.eus/
DTSTAMP:20260419T181915Z
DESCRIPTION:DÍA: 13\, viernes\nHORA: 17:30 – 20:30 martes a domingo\n“LUCES
  DEL NORTE”. EXPOSICIÓN FOTOGRÁFICA | Carlos Mediavilla\nHasta el 29 de se
 ptiembre\nLUGAR: Juan de Lizarazu erakusketa aretoa (Urretxu)\nORGANIZA: a
 yuntamiento de Urretxu\n\n{rsfiles path='Cultura/Erakusketak/2019/16 pagin
 ako ona LIZARAZU_kat CMediavilla.pdf'}\n  https://www.urretxu.eus/eu/compo
 nent/rseventspro/ekitaldia/15046-luces-del-norte-exposicion-fotografica-ca
 rlos-mediavilla/?Itemid=775
DTSTART:20190913T153000Z
DTEND:20190913T183000Z
LOCATION:Juan de Lizarazu Erakusketa Aretoa (Urretxu) (Labeaga Kalea\, 27\,
  20700 Urretxu\, Gipuzkoa\, Spain)
SUMMARY:“LUCES DEL NORTE”. EXPOSICIÓN FOTOGRÁFICA | Carlos Mediavilla
URL:https://www.urretxu.eus/eu/component/rseventspro/ekitaldia/15046-luces-
 del-norte-exposicion-fotografica-carlos-mediavilla/?Itemid=775
END:VEVENT
END:VCALENDAR
