BEGIN:VCALENDAR
VERSION:2.0
PRODID:-//https://www.urretxu.eus///NONSGML kigkonsult.se iCalcreator 2.10.15//
METHOD:PUBLISH
BEGIN:VEVENT
UID:20260419T181926UTC-119680H9l0@https://www.urretxu.eus/
DTSTAMP:20260419T181926Z
DESCRIPTION:Oinarriak: www.urretxu.eus\nAntolatzailea: Urretxuko Udala http
 s://www.urretxu.eus/eu/component/rseventspro/ekitaldia/14960-exposicion-de
 -trabajos-presentados-al-concurso-para-la-eleccion-de-portada-del-programa
 -de-fiestas-de-santa-anastasia-2022/?Itemid=775
DTSTART:20220627T180000Z
DTEND:20220627T190000Z
LOCATION:Aizpurunea Kultur Etxea (Urretxu) (Jauregi Kalea\, 19\, 20700 Urre
 txu\, Gipuzkoa\, Spain)
SUMMARY:EXPOSICIÓN DE TRABAJOS PRESENTADOS AL CONCURSO PARA LA ELECCIÓN DE 
 PORTADA DEL PROGRAMA DE FIESTAS DE SANTA ANASTASIA 2022
URL:https://www.urretxu.eus/eu/component/rseventspro/ekitaldia/14960-exposi
 cion-de-trabajos-presentados-al-concurso-para-la-eleccion-de-portada-del-p
 rograma-de-fiestas-de-santa-anastasia-2022/?Itemid=775
END:VEVENT
END:VCALENDAR
