BEGIN:VCALENDAR
VERSION:2.0
PRODID:-//https://www.urretxu.eus///NONSGML kigkonsult.se iCalcreator 2.10.15//
METHOD:PUBLISH
BEGIN:VEVENT
UID:20260419T182215UTC-9215H7f34G@https://www.urretxu.eus/
DTSTAMP:20260419T182215Z
DESCRIPTION:Oinarriak: www.urretxu.eus\nAntolatzailea: Urretxuko Udala http
 s://www.urretxu.eus/eu/component/rseventspro/ekitaldia/14847-2022ko-urretx
 uko-santa-anastasia-jaietako-egitarauaren-portada-aukeratzeko-lehiaketako-
 lanen-erakusketa/?Itemid=775
DTSTART:20220627T180000Z
DTEND:20220627T190000Z
LOCATION:Aizpurunea Kultur Etxea (Urretxu) (Jauregi Kalea\, 19\, 20700 Urre
 txu\, Gipuzkoa\, Spain)
SUMMARY:2022ko URRETXUKO SANTA ANASTASIA JAIETAKO EGITARAUAREN PORTADA AUKE
 RATZEKO LEHIAKETAKO LANEN ERAKUSKETA
URL:https://www.urretxu.eus/eu/component/rseventspro/ekitaldia/14847-2022ko
 -urretxuko-santa-anastasia-jaietako-egitarauaren-portada-aukeratzeko-lehia
 ketako-lanen-erakusketa/?Itemid=775
END:VEVENT
END:VCALENDAR
