BEGIN:VCALENDAR
VERSION:2.0
PRODID:-//https://www.urretxu.eus///NONSGML kigkonsult.se iCalcreator 2.10.15//
METHOD:PUBLISH
BEGIN:VEVENT
UID:20260419T164329UTC-4774G8GZOr@https://www.urretxu.eus/
DTSTAMP:20260419T164329Z
DESCRIPTION:Organizan: ayuntamientos de Urretxu y Zumarraga\nColaboran: Gue
 ske\, Nagusilan y Eusko Jaurlaritza Osasun Saila\nTTIPI ETAPA\nCIRCUITOS U
 RBANOS PARA CAMINAR\n\nMiércoles\nHora: 11:00\nPunto de encuentro: Areizag
 a – Kalebarren plaza\n https://www.urretxu.eus/eu/component/rseventspro/ek
 italdia/1471-ttipi-etapa-circuitos-urbanos-para-caminar/?Itemid=775
DTSTART:20180110T100000Z
DTEND:20180110T110000Z
LOCATION:Areizaga - Kalebarren plaza (Urretxu) (Areizaga-Kalebarren)
SUMMARY:Ttipi ETAPA: Circuitos Urbanos para caminar
URL:https://www.urretxu.eus/eu/component/rseventspro/ekitaldia/1471-ttipi-e
 tapa-circuitos-urbanos-para-caminar/?Itemid=775
END:VEVENT
END:VCALENDAR
