BEGIN:VCALENDAR
VERSION:2.0
PRODID:-//https://www.urretxu.eus///NONSGML kigkonsult.se iCalcreator 2.10.15//
METHOD:PUBLISH
BEGIN:VEVENT
UID:20260419T181608UTC-1823rjl9dd@https://www.urretxu.eus/
DTSTAMP:20260419T181608Z
DESCRIPTION:DÍA: Martes 18\nHORA: 10:00 – 13:00 / 17:00 – 20:00\nLUGAR: Urr
 elur museoa - kultur etxea (Urretxu)\nORGANIZA: Urrelur Museoa – Museoen e
 guna\nAforo limitado - Reservas con antelación: 943 038088 https://www.urr
 etxu.eus/eu/component/rseventspro/ekitaldia/14424-dia-internacional-de-los
 -museos-puertas-abiertas-en-el-museo-urrelur/?Itemid=775
DTSTART;VALUE=DATE:20210518
LOCATION:Urrelur. Mineral eta fosil museoa (Urretxu) (Jauregi Kalea\, 19\, 
 20700 Urretxu\, Gipuzkoa\, Spain)
SUMMARY:DÍA INTERNACIONAL DE LOS MUSEOS - PUERTAS ABIERTAS EN EL MUSEO URRE
 LUR
URL:https://www.urretxu.eus/eu/component/rseventspro/ekitaldia/14424-dia-in
 ternacional-de-los-museos-puertas-abiertas-en-el-museo-urrelur/?Itemid=775
END:VEVENT
END:VCALENDAR
