BEGIN:VCALENDAR
VERSION:2.0
PRODID:-//https://www.urretxu.eus///NONSGML kigkonsult.se iCalcreator 2.10.15//
METHOD:PUBLISH
BEGIN:VEVENT
UID:20260419T200246UTC-03935VbDgH@https://www.urretxu.eus/
DTSTAMP:20260419T200246Z
DESCRIPTION:DÍA: hasta el 4 de octubre\nHORA: 20:00\nCONVOCATORIA ABIERTA D
 EL CONCURSO DE PINTURA\nLUGAR: Zelai Arizti kultur etxea (Zumarraga)\nORGA
 NIZA: ayuntamientos de Urretxu y Zumarraga\n\nB A S E S https://www.urretx
 u.eus/eu/component/rseventspro/ekitaldia/14100-convocatoria-abierta-del-co
 ncurso-de-pintura/?Itemid=775
DTSTART;VALUE=DATE:20190401
LOCATION:Zelai Arizti kultur etxea (Zumarraga) (Legazpi Kalea\, 7\, 20700 Z
 umarraga\, Gipuzkoa\, Spain)
SUMMARY:CONVOCATORIA ABIERTA DEL CONCURSO DE PINTURA
URL:https://www.urretxu.eus/eu/component/rseventspro/ekitaldia/14100-convoc
 atoria-abierta-del-concurso-de-pintura/?Itemid=775
END:VEVENT
END:VCALENDAR
