BEGIN:VCALENDAR
VERSION:2.0
PRODID:-//https://www.urretxu.eus///NONSGML kigkonsult.se iCalcreator 2.10.15//
METHOD:PUBLISH
BEGIN:VEVENT
UID:20260419T150033UTC-6064oKGZhl@https://www.urretxu.eus/
DTSTAMP:20260419T150033Z
DESCRIPTION:DÍA: 7\, domingo\nHORA: 11:30\nIPARRAGIRRE BALERDI MUSIKA BANDA
 : PASACALLE DE PRIMAVERA\nLUGAR:  calles de Urretxu y plaza Gernikako Arbo
 la\nORGANIZA: Iparragirre Balerdi Musika Tailerra\n\n  https://www.urretxu
 .eus/eu/component/rseventspro/ekitaldia/13417-iparragirre-balerdi-musika-b
 anda-pasacalle-de-primavera/?Itemid=775
DTSTART:20230507T093000Z
DTEND:20230507T120000Z
LOCATION:Urretxu (Kalea Iparragirre\, 20W\, 20700 Urretxu\, Gipuzkoa\, Spai
 n)
SUMMARY:IPARRAGIRRE BALERDI MUSIKA BANDA: PASACALLE DE PRIMAVERA
URL:https://www.urretxu.eus/eu/component/rseventspro/ekitaldia/13417-iparra
 girre-balerdi-musika-banda-pasacalle-de-primavera/?Itemid=775
END:VEVENT
END:VCALENDAR
