BEGIN:VCALENDAR
VERSION:2.0
PRODID:-//https://www.urretxu.eus///NONSGML kigkonsult.se iCalcreator 2.10.15//
METHOD:PUBLISH
BEGIN:VEVENT
UID:20260419T212202UTC-7550mVa5vf@https://www.urretxu.eus/
DTSTAMP:20260419T212202Z
DESCRIPTION:DÍAS: 2-3\, 16-17\, 24\, 31 sábados y domingos\nHORA: 10:30 – 1
 4:30 / 17:00 – 21:30\nZONA DE OCIO INFANTIL\n\nSábados y domingos\n\nLUGAR
 : Ederrena pilotalekua (Urretxu)\nORGANIZA: ayuntamiento de Urretxu\n http
 s://www.urretxu.eus/eu/component/rseventspro/ekitaldia/12849-zona-de-ocio-
 infantil/?Itemid=775
DTSTART;VALUE=DATE:20190302
LOCATION:Ederrena Pilotalekua (Urretxu) (San Martin Etxetaldea\, 4\, 20700 
 Urretxu\, Gipuzkoa\, Spain)
SUMMARY:Zona de ocio infantil
URL:https://www.urretxu.eus/eu/component/rseventspro/ekitaldia/12849-zona-d
 e-ocio-infantil/?Itemid=775
END:VEVENT
END:VCALENDAR
