BEGIN:VCALENDAR
VERSION:2.0
PRODID:-//https://www.urretxu.eus///NONSGML kigkonsult.se iCalcreator 2.10.15//
METHOD:PUBLISH
BEGIN:VEVENT
UID:20260421T013626UTC-9546I3VSaS@https://www.urretxu.eus/
DTSTAMP:20260421T013626Z
DESCRIPTION:Goizez / por la mañanaIRIMORA IGOTZEA SUBIDA A IRIMOIrimo mendi
 a (Urretxu)Goierri Kirol Elkartea https://www.urretxu.eus/eu/component/rse
 ventspro/ekitaldia/12531-subida-a-irimo/?Itemid=1213
DTSTART;VALUE=DATE:20240101
LOCATION:Irimo mendia (Urretxu) (Zumárraga\, 20700\, Gipuzkoa\, Spain)
SUMMARY:SUBIDA A IRIMO
URL:https://www.urretxu.eus/eu/component/rseventspro/ekitaldia/12531-subida
 -a-irimo/?Itemid=1213
END:VEVENT
END:VCALENDAR
