BEGIN:VCALENDAR
VERSION:2.0
PRODID:-//https://www.urretxu.eus///NONSGML kigkonsult.se iCalcreator 2.10.15//
METHOD:PUBLISH
BEGIN:VEVENT
UID:20260419T163507UTC-8869PtL2Un@https://www.urretxu.eus/
DTSTAMP:20260419T163507Z
DESCRIPTION:EGUNA: 1\, astelehenaORDUA: GoizeanANTOLATZAILEA: Goierri kirol
  elkartea https://www.urretxu.eus/eu/component/rseventspro/ekitaldia/12530
 -irimoko-igoera/?Itemid=775
DTSTART;VALUE=DATE:20250101
LOCATION:Irimo mendia (Urretxu) (Zumárraga\, 20700\, Gipuzkoa\, Spain)
SUMMARY:IRIMOKO IGOERA
URL:https://www.urretxu.eus/eu/component/rseventspro/ekitaldia/12530-irimok
 o-igoera/?Itemid=775
END:VEVENT
END:VCALENDAR
