BEGIN:VCALENDAR
VERSION:2.0
PRODID:-//https://www.urretxu.eus///NONSGML kigkonsult.se iCalcreator 2.10.15//
METHOD:PUBLISH
BEGIN:VEVENT
UID:20260419T181611UTC-20520zbHLF@https://www.urretxu.eus/
DTSTAMP:20260419T181611Z
DESCRIPTION:Organiza: Hainbat herritar\nColaboran: ayuntamiento de Zumarrag
 a\nMarcha y carrera San Silvestre\nXXII. SAN SILBESTRE MENDI IBILALDIA\nRe
 corrido largo\n(Bost Gurutzeren bisitaldia)\nEuskadi plaza – Agiña – Oleta
  (844 m) – Samiño (933 m) – Izazpi (972 m) – Beloki (641 m) – Antio – Arka
 itzeta\nRecorrido corto\nEuskadi plaza – Izazpi (972 m) – Beloki (641 m) –
  Antio – Arkaitzeta\n\nLunes 31\n\n\n\n08:30 Salida: Euskadi plaza\n\n\n11
 :45 Fotografía de grupo en Izazpi\n\n\n13:00 Caldo y chorizo para los part
 icipantes en la sociedad Arkaitzeta\n\n https://www.urretxu.eus/eu/compone
 nt/rseventspro/ekitaldia/12502-xxii-san-silbestre-mendi-ibilaldia/?Itemid=
 775
DTSTART:20181231T073000Z
DTEND:20181231T130000Z
LOCATION:Euskadi plaza (Zumarraga) (Euskadi Plaza\, 20700 Zumarraga\, Gipuz
 koa\, Spain)
SUMMARY:XXII. SAN SILBESTRE MENDI IBILALDIA
URL:https://www.urretxu.eus/eu/component/rseventspro/ekitaldia/12502-xxii-s
 an-silbestre-mendi-ibilaldia/?Itemid=775
END:VEVENT
END:VCALENDAR
