BEGIN:VCALENDAR
VERSION:2.0
PRODID:-//https://www.urretxu.eus///NONSGML kigkonsult.se iCalcreator 2.10.15//
METHOD:PUBLISH
BEGIN:VEVENT
UID:20260419T200431UTC-7802FRBk58@https://www.urretxu.eus/
DTSTAMP:20260419T200431Z
DESCRIPTION:Antolatzailea: Zumarragako Udala\nIKASGELA\nLarunbatak eta igan
 deak\, abenduak 22\, 23\, 29\, 30\nAZTERKETA GARAIRAKO IKASGELA\nEgunak et
 a ordutegia:\n\nLarunbatak\n\nEgunak: 22\, 29\nOrdutegia: 16:30 - 20:30\n
 \n\nIgandeak\n\nEgunak: 23\, 30\nOrdutegia: 10:30 - 13:30 eta 16:30 - 19:3
 0\n\n\n\n\nLekua: Zelai Arizti kultur etxea (Zumarraga)\n https://www.urre
 txu.eus/eu/component/rseventspro/ekitaldia/12477-ikasgela-azterketa-garair
 ako-ikasgela/?Itemid=775
DTSTART;VALUE=DATE:20181222
LOCATION:Zelai Arizti kultur etxea (Zumarraga) (Legazpi Kalea\, 7\, 20700 Z
 umarraga\, Gipuzkoa\, Spain)
SUMMARY:Ikasgela: Azterketa garairako ikasgela
URL:https://www.urretxu.eus/eu/component/rseventspro/ekitaldia/12477-ikasge
 la-azterketa-garairako-ikasgela/?Itemid=775
END:VEVENT
END:VCALENDAR
