BEGIN:VCALENDAR
VERSION:2.0
PRODID:-//https://www.urretxu.eus///NONSGML kigkonsult.se iCalcreator 2.10.15//
METHOD:PUBLISH
BEGIN:VEVENT
UID:20260419T145808UTC-6200SFEPlt@https://www.urretxu.eus/
DTSTAMP:20260419T145808Z
DESCRIPTION:Antolatzailea:  Iparragirre Balerdi Musika Tailerra\nLaguntzail
 ea: Urretxuko Udala\nMUSIKA\n21 ostirala - 19:30\nGABONETAKO KONTZERTUA\nP
 artaideak\n\nIparragirre Balerdi Musika Banda\nLizarriturri Txistulari Elk
 artea\nIratzarri Dultzainari Taldea\nSecundino Esnaola Musika Eskolako hau
 r abesbatza\n\n\nLekua:  San Martin de Tours eliza (Urretxu)\n https://www
 .urretxu.eus/eu/component/rseventspro/ekitaldia/12445-musika-gabonetako-ko
 ntzertua/?Itemid=775
DTSTART:20181221T183000Z
DTEND:20181221T193000Z
LOCATION:San Martin de Tours eliza (Urretxu) (Jauregi Kalea\, 23\, 20700 Ur
 retxu\, Gipuzkoa\, Spain)
SUMMARY:MUSIKA: Gabonetako Kontzertua
URL:https://www.urretxu.eus/eu/component/rseventspro/ekitaldia/12445-musika
 -gabonetako-kontzertua/?Itemid=775
END:VEVENT
END:VCALENDAR
