BEGIN:VCALENDAR
VERSION:2.0
PRODID:-//https://www.urretxu.eus///NONSGML kigkonsult.se iCalcreator 2.10.15//
METHOD:PUBLISH
BEGIN:VEVENT
UID:20260419T163338UTC-2167H9HxVH@https://www.urretxu.eus/
DTSTAMP:20260419T163338Z
DESCRIPTION:Antolatzaileak: Zumarraga eta Urretxuko udalak eta UZUE udal Eu
 skaltegia\nMINTZODROMOA\n\nLekua: Zelai Arizti kultur etxea (Zumarraga)\n 
 https://www.urretxu.eus/eu/component/rseventspro/ekitaldia/12290-mintzodro
 moa/?Itemid=775
DTSTART:20181201T110000Z
DTEND:20181201T130000Z
LOCATION:Zelai Arizti kultur etxea (Zumarraga) (Legazpi Kalea\, 7\, 20700 Z
 umarraga\, Gipuzkoa\, Spain)
SUMMARY:Mintzodromoa
URL:https://www.urretxu.eus/eu/component/rseventspro/ekitaldia/12290-mintzo
 dromoa/?Itemid=775
END:VEVENT
END:VCALENDAR
